BEGIN:VCALENDAR
VERSION:2.0
PRODID:-// - ECPv5.1.4//NONSGML v1.0//EN
CALSCALE:GREGORIAN
METHOD:PUBLISH
X-ORIGINAL-URL:http://13.57.118.240
X-WR-CALDESC:Events for 
BEGIN:VTIMEZONE
TZID:UTC
BEGIN:STANDARD
TZOFFSETFROM:+0000
TZOFFSETTO:+0000
TZNAME:UTC
DTSTART:20200101T000000
END:STANDARD
END:VTIMEZONE
BEGIN:VEVENT
DTSTART;VALUE=DATE:20201230
DTEND;VALUE=DATE:20210301
DTSTAMP:20260422T103540
CREATED:20201230T170418Z
LAST-MODIFIED:20201230T170455Z
UID:463-1609286400-1614556799@13.57.118.240
SUMMARY:RMUoHP Summit magazine article: Crossing Borders in Healthcare
DESCRIPTION:Honored to tell my story via the RMUoHP summit magazine! \nI strive to stay true in the dark and humble in the spotlight! \nCheck out the article: \nCrossing Borders in Healthcare \n \n#stayhumble #healthcareleadership #rmuohp \n\n  4\,622 total views\,  5 views today \n\n
URL:http://13.57.118.240/events/rmuohp-summit-magazine-article-crossing-borders-in-healthcare/
END:VEVENT
END:VCALENDAR